BEGIN:VCALENDAR
VERSION:2.0
PRODID:spatie/icalendar-generator
DESCRIPTION:Évènements de image opale
X-WR-CALDESC:Évènements de image opale
REFRESH-INTERVAL;VALUE=DURATION:PT1440M
X-PUBLISHED-TTL:PT1440M
BEGIN:VTIMEZONE
TZID:Etc/GMT+0
BEGIN:STANDARD
DTSTART:20240729T000000Z
TZOFFSETFROM:+0000
TZOFFSETTO:+0000
END:STANDARD
END:VTIMEZONE
BEGIN:VTIMEZONE
TZID:UTC
BEGIN:STANDARD
DTSTART:20250725T080826Z
TZOFFSETFROM:+0000
TZOFFSETTO:+0000
END:STANDARD
END:VTIMEZONE
BEGIN:VEVENT
UID:78-29
DTSTAMP:20260421T080826Z
SUMMARY:Concours N2 Papier Nature
LOCATION:
ORGANIZER;CN=Alain Gatoux:MAILTO:alaingatoux@orange.fr
DTSTART;TZID=Etc/GMT+0;VALUE=DATE:20250425
DTEND;TZID=Etc/GMT+0;VALUE=DATE:20250426
X-ALT-DESC;FMTTYPE=TEXT/HTML:
CATEGORIES:concours
URL;VALUE=URI:https://www.imageopale.fr/mc-events/concours-n2-papier-nature
 /?mc_id=78
METHOD:PUBLISH
END:VEVENT
END:VCALENDAR