BEGIN:VCALENDAR
VERSION:2.0
PRODID:spatie/icalendar-generator
DESCRIPTION:Évènements de image opale
X-WR-CALDESC:Évènements de image opale
REFRESH-INTERVAL;VALUE=DURATION:PT1440M
X-PUBLISHED-TTL:PT1440M
BEGIN:VTIMEZONE
TZID:Etc/GMT+0
BEGIN:STANDARD
DTSTART:20240215T000000Z
TZOFFSETFROM:+0000
TZOFFSETTO:+0000
END:STANDARD
END:VTIMEZONE
BEGIN:VTIMEZONE
TZID:UTC
BEGIN:STANDARD
DTSTART:20250727T085229Z
TZOFFSETFROM:+0000
TZOFFSETTO:+0000
END:STANDARD
END:VTIMEZONE
BEGIN:VEVENT
UID:2-2
DTSTAMP:20260423T085229Z
SUMMARY:Mise en ligne du site www.imageopale.fr
LOCATION:
ORGANIZER;CN=admin:MAILTO:ambleteusenature@gmail.com
DTSTART;TZID=Etc/GMT+0;VALUE=DATE:20241111
DTEND;TZID=Etc/GMT+0;VALUE=DATE:20241112
X-ALT-DESC;FMTTYPE=TEXT/HTML:En ce 11 novembre 2024\, le site web d'image o
 pale est enfin accessible à tous.
CATEGORIES:Web
URL;VALUE=URI:https://www.imageopale.fr/mc-events/mise-en-ligne-du-site-www
 -imageopale-fr/?mc_id=2
METHOD:PUBLISH
END:VEVENT
END:VCALENDAR