BEGIN:VCALENDAR
VERSION:2.0
PRODID:spatie/icalendar-generator
DESCRIPTION:Évènements de image opale
X-WR-CALDESC:Évènements de image opale
REFRESH-INTERVAL;VALUE=DURATION:PT1440M
X-PUBLISHED-TTL:PT1440M
BEGIN:VTIMEZONE
TZID:Etc/GMT+0
BEGIN:STANDARD
DTSTART:20240513T000000Z
TZOFFSETFROM:+0000
TZOFFSETTO:+0000
END:STANDARD
END:VTIMEZONE
BEGIN:VTIMEZONE
TZID:UTC
BEGIN:STANDARD
DTSTART:20250723T142220Z
TZOFFSETFROM:+0000
TZOFFSETTO:+0000
END:STANDARD
END:VTIMEZONE
BEGIN:VEVENT
UID:55-12
DTSTAMP:20260419T142220Z
SUMMARY:Enduropale au Touquet. Le touquet
LOCATION:
ORGANIZER;CN=Alain Gatoux:MAILTO:alaingatoux@orange.fr
DTSTART;TZID=Etc/GMT+0;VALUE=DATE:20250207
DTEND;TZID=Etc/GMT+0;VALUE=DATE:20250210
X-ALT-DESC;FMTTYPE=TEXT/HTML:
CATEGORIES:sortie
URL;VALUE=URI:https://www.imageopale.fr/mc-events/enduropale-au-touquet-le-
 touquet/?mc_id=55
METHOD:PUBLISH
END:VEVENT
END:VCALENDAR