BEGIN:VCALENDAR
VERSION:2.0
PRODID:spatie/icalendar-generator
DESCRIPTION:Évènements de image opale
X-WR-CALDESC:Évènements de image opale
REFRESH-INTERVAL;VALUE=DURATION:PT1440M
X-PUBLISHED-TTL:PT1440M
BEGIN:VTIMEZONE
TZID:Etc/GMT+0
BEGIN:STANDARD
DTSTART:20250715T000000Z
TZOFFSETFROM:+0000
TZOFFSETTO:+0000
END:STANDARD
END:VTIMEZONE
BEGIN:VTIMEZONE
TZID:UTC
BEGIN:STANDARD
DTSTART:20250725T094322Z
TZOFFSETFROM:+0000
TZOFFSETTO:+0000
END:STANDARD
END:VTIMEZONE
BEGIN:VEVENT
UID:113-62
DTSTAMP:20260421T094322Z
SUMMARY:Festi Vintage
LOCATION:
ORGANIZER;CN=Alain Gatoux:MAILTO:alaingatoux@orange.fr
DTSTART;TZID=Etc/GMT+0;VALUE=DATE:20260411
DTEND;TZID=Etc/GMT+0;VALUE=DATE:20260413
X-ALT-DESC;FMTTYPE=TEXT/HTML:https://www.merlimont.fr/fr/festivintage/
CATEGORIES:sortie
URL;VALUE=URI:https://www.imageopale.fr/mc-events/festi-vintage/?mc_id=113
METHOD:PUBLISH
END:VEVENT
END:VCALENDAR