BEGIN:VCALENDAR
VERSION:2.0
PRODID:spatie/icalendar-generator
DESCRIPTION:Évènements de image opale
X-WR-CALDESC:Évènements de image opale
REFRESH-INTERVAL;VALUE=DURATION:PT1440M
X-PUBLISHED-TTL:PT1440M
BEGIN:VTIMEZONE
TZID:Etc/GMT+0
BEGIN:STANDARD
DTSTART:20250722T000000Z
TZOFFSETFROM:+0000
TZOFFSETTO:+0000
END:STANDARD
END:VTIMEZONE
BEGIN:VTIMEZONE
TZID:UTC
BEGIN:STANDARD
DTSTART:20250725T094250Z
TZOFFSETFROM:+0000
TZOFFSETTO:+0000
END:STANDARD
END:VTIMEZONE
BEGIN:VEVENT
UID:111-53
DTSTAMP:20260421T094250Z
SUMMARY:35° Festival de l'Oiseau
LOCATION:
ORGANIZER;CN=Alain Gatoux:MAILTO:alaingatoux@orange.fr
DTSTART;TZID=Etc/GMT+0:20260418T000000
DTEND;TZID=Etc/GMT+0:20260426T010000
X-ALT-DESC;FMTTYPE=TEXT/HTML:Baie de Somme https://www.festival-oiseau-natu
 re.com/le-festival/le festival- presentation/
CATEGORIES:sortie
URL;VALUE=URI:https://www.imageopale.fr/mc-events/35-festival-de-loiseau/?m
 c_id=111
METHOD:PUBLISH
END:VEVENT
END:VCALENDAR