BEGIN:VCALENDAR
VERSION:2.0
PRODID:spatie/icalendar-generator
DESCRIPTION:Évènements de image opale
X-WR-CALDESC:Évènements de image opale
REFRESH-INTERVAL;VALUE=DURATION:PT1440M
X-PUBLISHED-TTL:PT1440M
BEGIN:VTIMEZONE
TZID:Etc/GMT+0
BEGIN:STANDARD
DTSTART:20250722T000000Z
TZOFFSETFROM:+0000
TZOFFSETTO:+0000
END:STANDARD
END:VTIMEZONE
BEGIN:VTIMEZONE
TZID:UTC
BEGIN:STANDARD
DTSTART:20250725T081157Z
TZOFFSETFROM:+0000
TZOFFSETTO:+0000
END:STANDARD
END:VTIMEZONE
BEGIN:VEVENT
UID:110-52
DTSTAMP:20260421T081157Z
SUMMARY:39° rencontre cerfs volants
LOCATION:
ORGANIZER;CN=Alain Gatoux:MAILTO:alaingatoux@orange.fr
DTSTART;TZID=Etc/GMT+0:20260418T000000
DTEND;TZID=Etc/GMT+0:20260426T010000
X-ALT-DESC;FMTTYPE=TEXT/HTML:https://www.cerf-volant-berck.com/uploads/file
 /save-the-date- 2026.pdf
CATEGORIES:sortie
URL;VALUE=URI:https://www.imageopale.fr/mc-events/39-rencontre-cerfs-volant
 s/?mc_id=110
METHOD:PUBLISH
END:VEVENT
END:VCALENDAR